BEGIN:VCALENDAR
VERSION:2.0
PRODID:-//ConVerve GmbH//B2BMatch//EN
METHOD:PUBLISH
BEGIN:VEVENT
DTSTART:20250729T071800Z
DTEND:20250805T151800Z
SUMMARY:VIRTUAL // GROWTH
LOCATION:Converve 
DESCRIPTION:
UID:0000001
DTSTAMP:20250729T071904Z
END:VEVENT
END:VCALENDAR
